BEGIN:VCALENDAR
VERSION:2.0
PRODID:-//Filmhuis Mechelen - ECPv4.3.1.1//NONSGML v1.0//EN
CALSCALE:GREGORIAN
METHOD:PUBLISH
X-WR-CALNAME:Filmhuis Mechelen
X-ORIGINAL-URL:https://www.filmhuismechelen.be
X-WR-CALDESC:Events for Filmhuis Mechelen
BEGIN:VEVENT
DTSTART;TZID=UTC+2:20190401T203000
DTEND;TZID=UTC+2:20190401T203000
DTSTAMP:20260421T181314
CREATED:20190215T103230Z
LAST-MODIFIED:20190315T080651Z
UID:11452-1554150600-1554150600@www.filmhuismechelen.be
SUMMARY:ART & FILM #07: A LONG WAY HOME
DESCRIPTION:Vertoning:\nMAANDAG 1 APRIL om 20u30.\n\nEen organisatie i.s.m. Academie Mechelen.\n\nAlle info & trailer HIER!\n\n
URL:https://www.filmhuismechelen.be/vertoning/art-film-08-a-long-way-home/
CATEGORIES:Documentaire,Programma
END:VEVENT
END:VCALENDAR