BEGIN:VCALENDAR
VERSION:2.0
PRODID:-//Filmhuis Mechelen - ECPv4.3.1.1//NONSGML v1.0//EN
CALSCALE:GREGORIAN
METHOD:PUBLISH
X-WR-CALNAME:Filmhuis Mechelen
X-ORIGINAL-URL:https://www.filmhuismechelen.be
X-WR-CALDESC:Events for Filmhuis Mechelen
BEGIN:VEVENT
DTSTART;TZID=UTC+2:20190311T190000
DTEND;TZID=UTC+2:20190311T190000
DTSTAMP:20260421T181834
CREATED:20181214T094810Z
LAST-MODIFIED:20190311T150414Z
UID:11013-1552330800-1552330800@www.filmhuismechelen.be
SUMMARY:Art & Film #06: WERK OHNE AUTOR
DESCRIPTION:Vertoningen\nMAANDAG 11 MAART om 19u00.\nMAANDAG 8 APRIL om 19u00.\n\n
URL:https://www.filmhuismechelen.be/vertoning/art-film-06-werk-ohne-autor/
CATEGORIES:Programma
END:VEVENT
END:VCALENDAR