BEGIN:VCALENDAR
VERSION:2.0
PRODID:-//Filmhuis Mechelen - ECPv4.3.1.1//NONSGML v1.0//EN
CALSCALE:GREGORIAN
METHOD:PUBLISH
X-WR-CALNAME:Filmhuis Mechelen
X-ORIGINAL-URL:https://www.filmhuismechelen.be
X-WR-CALDESC:Events for Filmhuis Mechelen
BEGIN:VEVENT
DTSTART;TZID=UTC+1:20200309T203000
DTEND;TZID=UTC+1:20200309T203000
DTSTAMP:20260420T173354
CREATED:20200219T134229Z
LAST-MODIFIED:20200221T100748Z
UID:13940-1583785800-1583785800@www.filmhuismechelen.be
SUMMARY:Art & Film #06: BODY OF TRUTH
DESCRIPTION:Vertoning:\nMAANDAG 9 MAART om 20u30.\n\nEen Art & Film-vertoning i.s.m. Academie Mechelen.\n\nOPGELET: deze film is niet ondertiteld (origineel Engelstalig)\n\n\nALLE INFO\, TRAILER & PERSARTIKELS VINDT U HIER!\n\n
URL:https://www.filmhuismechelen.be/vertoning/art-film-06-body-of-truth/
CATEGORIES:Documentaire,Programma
END:VEVENT
END:VCALENDAR