BEGIN:VCALENDAR
VERSION:2.0
PRODID:-//Filmhuis Mechelen - ECPv4.3.1.1//NONSGML v1.0//EN
CALSCALE:GREGORIAN
METHOD:PUBLISH
X-WR-CALNAME:Filmhuis Mechelen
X-ORIGINAL-URL:https://www.filmhuismechelen.be
X-WR-CALDESC:Events for Filmhuis Mechelen
BEGIN:VEVENT
DTSTART;TZID=UTC+2:20220530T183000
DTEND;TZID=UTC+2:20220530T183000
DTSTAMP:20260423T142434
CREATED:20220511T201327Z
LAST-MODIFIED:20220524T202445Z
UID:25613-1653935400-1653935400@www.filmhuismechelen.be
SUMMARY:APPLES
DESCRIPTION:Vertoningen:\n- MAANDAG 30 MEI om 18u30 - tickets voor deze vertoning HIER!\n- DINSDAG 21 JUNI om 18u30 - tickets voor deze vertoning HIER!\n\nTIP: koop eerst een SEIZOENSKAART\, en bespaar zo 2 euro per ticket.\n\nAlle info\, trailer & recensies HIER!\n\n
URL:https://www.filmhuismechelen.be/vertoning/apples-2/
LOCATION:Minderbroedersgang 5\, Mechelen\, 2800
CATEGORIES:Programma
END:VEVENT
END:VCALENDAR