BEGIN:VCALENDAR
VERSION:2.0
PRODID:-//Filmhuis Mechelen - ECPv4.3.1.1//NONSGML v1.0//EN
CALSCALE:GREGORIAN
METHOD:PUBLISH
X-WR-CALNAME:Filmhuis Mechelen
X-ORIGINAL-URL:https://www.filmhuismechelen.be
X-WR-CALDESC:Events for Filmhuis Mechelen
BEGIN:VEVENT
DTSTART;TZID=UTC+2:20191202T203000
DTEND;TZID=UTC+2:20191202T203000
DTSTAMP:20260421T023024
CREATED:20191011T182630Z
LAST-MODIFIED:20191107T093616Z
UID:12808-1575318600-1575318600@www.filmhuismechelen.be
SUMMARY:AND THEN WE DANCED
DESCRIPTION:\nVertoningen:\nMAANDAG 2 DECEMBER om 20u30.\nMAANDAG 9 DECEMBER om 18u30.\n\nEen vertoning i.s.m. Mechelen Mondiaal en het Holebifilmfestival.\n\nDe vertoning van 2 december is ten voordele van Kom Op Tegen Kanker!\n\nALLE INFO\, TRAILER & RECENSIES HIER!\n\n\n\n \n\n \n\n 
URL:https://www.filmhuismechelen.be/vertoning/and-then-we-danced/
CATEGORIES:Programma
END:VEVENT
END:VCALENDAR