BEGIN:VCALENDAR
VERSION:2.0
PRODID:-//Filmhuis Mechelen - ECPv4.3.1.1//NONSGML v1.0//EN
CALSCALE:GREGORIAN
METHOD:PUBLISH
X-WR-CALNAME:Filmhuis Mechelen
X-ORIGINAL-URL:https://www.filmhuismechelen.be
X-WR-CALDESC:Events for Filmhuis Mechelen
BEGIN:VEVENT
DTSTART;TZID=UTC+2:20191230T205000
DTEND;TZID=UTC+2:20191230T205000
DTSTAMP:20260420T223350
CREATED:20191205T084641Z
LAST-MODIFIED:20191215T140013Z
UID:13196-1577739000-1577739000@www.filmhuismechelen.be
SUMMARY:AND BREATHE NORMALLY
DESCRIPTION:\n\nVertoning:\nMAANDAG 30 DECEMBER om 20u50.\n\nALLE INFO\, TRAILER & RECENSIES HIER!\n\n \n\n\n\nIn samenwerking met Mechelen Mondiaal.\n\nOpbrengst ten voordele van het Steunpunt Asiel & Migratie (Vluchtelingendienst)
URL:https://www.filmhuismechelen.be/vertoning/and-breathe-normally/
CATEGORIES:Programma
END:VEVENT
END:VCALENDAR