BEGIN:VCALENDAR
VERSION:2.0
PRODID:-//Filmhuis Mechelen - ECPv4.3.1.1//NONSGML v1.0//EN
CALSCALE:GREGORIAN
METHOD:PUBLISH
X-WR-CALNAME:Filmhuis Mechelen
X-ORIGINAL-URL:https://www.filmhuismechelen.be
X-WR-CALDESC:Events for Filmhuis Mechelen
BEGIN:VEVENT
DTSTART;TZID=UTC+1:20201130T203000
DTEND;TZID=UTC+1:20201130T203000
DTSTAMP:20260420T172657
CREATED:20200211T141520Z
LAST-MODIFIED:20201030T194430Z
UID:13833-1606768200-1606768200@www.filmhuismechelen.be
SUMMARY:GEANNULEERD: AMANDA
DESCRIPTION:Door de cororanmaatregelen zijn we helaas gedwongen deze vertoning te annuleren.\n\nGekochte tickets worden uiteraard terugbetaald.\n\nMogelijk wordt deze film op een latere datum hernomen.\n\nALLE ANDERE INFO\, TRAILER & RECENSIES HIER!\n\n\n\n \n\n \n\n \n\n \n\n \n\n \n\n\n\n \n\n \n\n \n\n \n\n \n\n \n\n\n\nEen organisatie i.s.m. CCV en de Mechelse Parochies.
URL:https://www.filmhuismechelen.be/vertoning/amanda/
CATEGORIES:Programma
END:VEVENT
END:VCALENDAR