BEGIN:VCALENDAR
VERSION:2.0
PRODID:-//Filmhuis Mechelen - ECPv4.3.1.1//NONSGML v1.0//EN
CALSCALE:GREGORIAN
METHOD:PUBLISH
X-WR-CALNAME:Filmhuis Mechelen
X-ORIGINAL-URL:https://www.filmhuismechelen.be
X-WR-CALDESC:Events for Filmhuis Mechelen
BEGIN:VEVENT
DTSTART;TZID=UTC+2:20220131T203000
DTEND;TZID=UTC+2:20220131T203000
DTSTAMP:20260421T022242
CREATED:20210609T234431Z
LAST-MODIFIED:20220112T185346Z
UID:22273-1643661000-1643661000@www.filmhuismechelen.be
SUMMARY:AMANDA
DESCRIPTION:VERTONING:\nMAANDAG 31 JANUARI om 20u30 - TICKETS voor deze vertoning HIER!\n\nBelangstellenden kunnen vanaf 20u15 een inleiding bijwonen van Leo De Weerdt sj.\n\nALLE INFO\, TRAILER & RECENSIES HIER!\n\n\n\nEen organisatie i.s.m. CCV en de Mechelse Parochies.\n\n\n\n
URL:https://www.filmhuismechelen.be/vertoning/amanda-2/
LOCATION:Minderbroedersgang 5\, Mechelen\, 2800
CATEGORIES:Programma
END:VEVENT
END:VCALENDAR