BEGIN:VCALENDAR
VERSION:2.0
PRODID:-//Filmhuis Mechelen - ECPv4.3.1.1//NONSGML v1.0//EN
CALSCALE:GREGORIAN
METHOD:PUBLISH
X-WR-CALNAME:Filmhuis Mechelen
X-ORIGINAL-URL:https://www.filmhuismechelen.be
X-WR-CALDESC:Events for Filmhuis Mechelen
BEGIN:VEVENT
DTSTART;TZID=UTC+2:20220516T120000
DTEND;TZID=UTC+2:20220516T120000
DTSTAMP:20260421T155646
CREATED:20220505T203838Z
LAST-MODIFIED:20220505T220047Z
UID:25548-1652702400-1652702400@www.filmhuismechelen.be
SUMMARY:ALL OF US
DESCRIPTION:Vertoning:\nMAANDAG 16 MEI om 12u00\n\nDeze vertoning is gratis toegankelijk voor iedereen\, maar inschrijven is verplicht.\nHet inschrijvingsformulier vindt u HIER!  \n\nAlle info & trailer HIER!\n\nEen vertoning in het kader van de International Day of Living Together in Peace.\n\nI.s.m. Stad Mechelen.
URL:https://www.filmhuismechelen.be/vertoning/all-of-us/
LOCATION:Minderbroedersgang 5\, Mechelen\, 2800
CATEGORIES:Documentaire,Programma
END:VEVENT
END:VCALENDAR