BEGIN:VCALENDAR
VERSION:2.0
PRODID:-//Filmhuis Mechelen - ECPv4.3.1.1//NONSGML v1.0//EN
CALSCALE:GREGORIAN
METHOD:PUBLISH
X-WR-CALNAME:Filmhuis Mechelen
X-ORIGINAL-URL:https://www.filmhuismechelen.be
X-WR-CALDESC:Events for Filmhuis Mechelen
BEGIN:VEVENT
DTSTART;TZID=UTC+2:20180326T203000
DTEND;TZID=UTC+2:20180326T203000
DTSTAMP:20260425T173017
CREATED:20180222T161710Z
LAST-MODIFIED:20180222T161710Z
UID:9478-1522096200-1522096200@www.filmhuismechelen.be
SUMMARY:AI WEIWEI: HUMAN FLOW
DESCRIPTION:Vertoning om 20u30.\n\nEen organisatie i.s.m. Academie Mechelen.\n\n\n
URL:https://www.filmhuismechelen.be/vertoning/ai-weiwei-human-flow/
CATEGORIES:Documentaire,Programma
END:VEVENT
END:VCALENDAR