BEGIN:VCALENDAR
VERSION:2.0
PRODID:-//Filmhuis Mechelen - ECPv4.3.1.1//NONSGML v1.0//EN
CALSCALE:GREGORIAN
METHOD:PUBLISH
X-WR-CALNAME:Filmhuis Mechelen
X-ORIGINAL-URL:https://www.filmhuismechelen.be
X-WR-CALDESC:Events for Filmhuis Mechelen
BEGIN:VEVENT
DTSTART;TZID=UTC+2:20180430T183000
DTEND;TZID=UTC+2:20180430T183000
DTSTAMP:20260425T191600
CREATED:20180413T215247Z
LAST-MODIFIED:20180413T215247Z
UID:9866-1525113000-1525113000@www.filmhuismechelen.be
SUMMARY:AFRIKA FILMFESTIVAL: WALLAY
DESCRIPTION:\nMAANDAG 30 APRIL om 18u30.\n\nEen heerlijke familiefilm van het Afrika Filmfestival!\n\nRichtleeftijd: 10+\n\n\n
URL:https://www.filmhuismechelen.be/vertoning/afrika-filmfestival-wallay/
CATEGORIES:Kinderfilms,Programma
END:VEVENT
END:VCALENDAR