BEGIN:VCALENDAR
VERSION:2.0
PRODID:-//Filmhuis Mechelen - ECPv4.3.1.1//NONSGML v1.0//EN
CALSCALE:GREGORIAN
METHOD:PUBLISH
X-WR-CALNAME:Filmhuis Mechelen
X-ORIGINAL-URL:https://www.filmhuismechelen.be
X-WR-CALDESC:Events for Filmhuis Mechelen
BEGIN:VEVENT
DTSTART;TZID=UTC+2:20180508T183000
DTEND;TZID=UTC+2:20180508T183000
DTSTAMP:20260425T211258
CREATED:20180418T112728Z
LAST-MODIFIED:20180418T112728Z
UID:9881-1525804200-1525804200@www.filmhuismechelen.be
SUMMARY:AFRIKA FILMFESTIVAL: MAMAN COLONELLE
DESCRIPTION:Vertoning om 18u30.\n\nIn het kader van het Afrika Filmfestival!\n\nEén combiticket met 'Une Saison En France' (20u30)\, met tussendoor en achteraf animatie\, muziek en de uitreiking van de Afrika Filmfestival Artist Award 2018!\n\n\n\n
URL:https://www.filmhuismechelen.be/vertoning/afrika-filmfestival-maman-colonelle/
CATEGORIES:De dinsdagen van het Filmhuis,Documentaire,Programma
END:VEVENT
END:VCALENDAR