BEGIN:VCALENDAR
VERSION:2.0
PRODID:-//Filmhuis Mechelen - ECPv4.3.1.1//NONSGML v1.0//EN
CALSCALE:GREGORIAN
METHOD:PUBLISH
X-WR-CALNAME:Filmhuis Mechelen
X-ORIGINAL-URL:https://www.filmhuismechelen.be
X-WR-CALDESC:Events for Filmhuis Mechelen
BEGIN:VEVENT
DTSTART;TZID=UTC+2:20200317T183000
DTEND;TZID=UTC+2:20200317T183000
DTSTAMP:20260420T172830
CREATED:20200211T145741Z
LAST-MODIFIED:20200312T142658Z
UID:13842-1584469800-1584469800@www.filmhuismechelen.be
SUMMARY:A WHITE\, WHITE DAY - verschoven naar latere datum
DESCRIPTION:Deze vertoning wordt vanwege de corona-pandemie verschoven naar een latere datum.\n\nALLE INFO\, TRAILER & RECENSIES HIER!\n\n\n\n \n\nKijkwijzer:\n\n\n 
URL:https://www.filmhuismechelen.be/vertoning/a-white-white-day/
CATEGORIES:Programma
END:VEVENT
END:VCALENDAR