BEGIN:VCALENDAR
VERSION:2.0
PRODID:-//Filmhuis Mechelen - ECPv4.3.1.1//NONSGML v1.0//EN
CALSCALE:GREGORIAN
METHOD:PUBLISH
X-WR-CALNAME:Filmhuis Mechelen
X-ORIGINAL-URL:https://www.filmhuismechelen.be
X-WR-CALDESC:Events for Filmhuis Mechelen
BEGIN:VEVENT
DTSTART;TZID=UTC+2:20200915T183000
DTEND;TZID=UTC+2:20200915T183000
DTSTAMP:20260421T024436
CREATED:20200713T163652Z
LAST-MODIFIED:20200915T201318Z
UID:17469-1600194600-1600194600@www.filmhuismechelen.be
SUMMARY:A WHITE\, WHITE DAY
DESCRIPTION:Kies uw vertoning:\n\nDINSDAG 22 SEPTEMBER om 20u30\nTickets voor deze vertoning HIER!\n\nMAANDAG 5 OKTOBER om 18u30\nTickets voor deze vertoning HIER!\n\nTIP: koop eerst uw Filmhuis-seizoenkaart HIER\, u geniet dan van 2 euro korting per film!\n\nALLE INFO\, TRAILER & RECENSIES HIER!\n\n\n\nKijkwijzer:\n\n\n 
URL:https://www.filmhuismechelen.be/vertoning/a-white-white-day-6/
CATEGORIES:De dinsdagen van het Filmhuis,Programma
END:VEVENT
END:VCALENDAR