BEGIN:VCALENDAR
VERSION:2.0
PRODID:-//Filmhuis Mechelen - ECPv4.3.1.1//NONSGML v1.0//EN
CALSCALE:GREGORIAN
METHOD:PUBLISH
X-WR-CALNAME:Filmhuis Mechelen
X-ORIGINAL-URL:https://www.filmhuismechelen.be
X-WR-CALDESC:Events for Filmhuis Mechelen
BEGIN:VEVENT
DTSTART;TZID=UTC+2:20191021T183000
DTEND;TZID=UTC+2:20191021T183000
DTSTAMP:20260421T010544
CREATED:20190919T145238Z
LAST-MODIFIED:20191009T190216Z
UID:12633-1571682600-1571682600@www.filmhuismechelen.be
SUMMARY:A RAINY DAY IN NEW YORK
DESCRIPTION:Vertoningen:\nMAANDAG 21 OKTOBER om 18u30.\nDINSDAG 22 OKTOBER om 18u30.\nDINSDAG 22 OKTOBER om 20u30.\n\nALLE INFO\, TRAILER & RECENSIES HIER!\n\n\n\n 
URL:https://www.filmhuismechelen.be/vertoning/a-rainy-day-in-new-york/
CATEGORIES:Programma
END:VEVENT
END:VCALENDAR