BEGIN:VCALENDAR
VERSION:2.0
PRODID:-//Filmhuis Mechelen - ECPv4.3.1.1//NONSGML v1.0//EN
CALSCALE:GREGORIAN
METHOD:PUBLISH
X-WR-CALNAME:Filmhuis Mechelen
X-ORIGINAL-URL:https://www.filmhuismechelen.be
X-WR-CALDESC:Events for Filmhuis Mechelen
BEGIN:VEVENT
DTSTART;TZID=UTC+2:20180306T183000
DTEND;TZID=UTC+2:20180306T183000
DTSTAMP:20260425T104444
CREATED:20180119T162208Z
LAST-MODIFIED:20180305T131954Z
UID:9379-1520361000-1520361000@www.filmhuismechelen.be
SUMMARY:A CIAMBRA
DESCRIPTION:DRIE VERTONINGEN!\nDINSDAG 6 MAART om 18u30\nDINSDAG 6 MAART om 20u30\nMAANDAG 12 MAART om 18u30\n\n
URL:https://www.filmhuismechelen.be/vertoning/a-ciambra-2/
CATEGORIES:De dinsdagen van het Filmhuis,Programma
END:VEVENT
END:VCALENDAR