BEGIN:VCALENDAR
VERSION:2.0
PRODID:-//Filmhuis Mechelen - ECPv4.3.1.1//NONSGML v1.0//EN
CALSCALE:GREGORIAN
METHOD:PUBLISH
X-WR-CALNAME:Filmhuis Mechelen
X-ORIGINAL-URL:https://www.filmhuismechelen.be
X-WR-CALDESC:Events for Filmhuis Mechelen
BEGIN:VEVENT
DTSTART;TZID=UTC+2:20201006T183000
DTEND;TZID=UTC+2:20201006T183000
DTSTAMP:20260421T020426
CREATED:20200829T172854Z
LAST-MODIFIED:20201006T164301Z
UID:17686-1602009000-1602009000@www.filmhuismechelen.be
SUMMARY:ETE 85
DESCRIPTION:Kies de gewenste vertoning en koop uw tickets (maximum in bubbel van 5):\n\nTIP: koop eerst uw Filmhuis-seizoenkaart HIER\, u geniet dan van 2 euro korting per film!\n\nMAANDAG 2 NOVEMBER om 18u30.\nTickets voor deze vertoning HIER!\n\nMAANDAG 9 NOVEMBER om 20u50.\nTickets voor deze vertoning HIER!\n\nIn het kader van het Holebifilmfestival.\n\nALLE INFO\, TRAILER & RECENSIES HIER!\n\n\n\nKijkwijzer:\n\n\n \n\n 
URL:https://www.filmhuismechelen.be/vertoning/17686/
CATEGORIES:De dinsdagen van het Filmhuis,Programma
END:VEVENT
END:VCALENDAR