BEGIN:VCALENDAR
VERSION:2.0
PRODID:-//Filmhuis Mechelen - ECPv4.3.1.1//NONSGML v1.0//EN
CALSCALE:GREGORIAN
METHOD:PUBLISH
X-WR-CALNAME:Filmhuis Mechelen
X-ORIGINAL-URL:https://www.filmhuismechelen.be
X-WR-CALDESC:Events for Filmhuis Mechelen
BEGIN:VEVENT
DTSTART;TZID=UTC+2:20231107T201500
DTEND;TZID=UTC+2:20231107T201500
DTSTAMP:20260420T102455
CREATED:20231002T114259Z
LAST-MODIFIED:20231029T145005Z
UID:29898-1699388100-1699388100@www.filmhuismechelen.be
SUMMARY:Holebifilmfestival: STRANGE WAY OF LIFE
DESCRIPTION:Vertoning:\n- DINSDAG 7 NOVEMBER om 20u15\n\nTICKETS voor deze vertoning (gratis drankje inbegrepen) HIER!\n\nALLE INFO & TRAILER HIER!\n\n\n\nDe pers over ‘STRANGE WAY OF LIFE':\n‘Almodóvar bouwt zijn western heerlijk op’ – De Morgen\n\n‘Almodóvar cracks the whip and the whole thing rattles along like an episode of ‘Bonanza’\, with more shots of bare bottoms.’ (★★★★★) - The Financial Times\n\n‘The director gets back in the saddle with this dusty lusty tale of long-lost lovers bound by a bloody fate.’ (★★★★) – The Guardian\n\n‘It’s a kick to see Almodóvar’s gay gaze applied to a Western.’ – Vanity Fair\n\n‘Queer audiences especially — but not exclusively — should celebrate this precious gift from one of the undisputed greats.’ - The Hollywood Reporter\n\nIn het kader van het HOLEBIFILMFESTIVAL 
URL:https://www.filmhuismechelen.be/vertoning/holebifilmfestival-strange-way-of-life/
LOCATION:Minderbroedersgang 5\, Mechelen\, 2800
CATEGORIES:De dinsdagen van het Filmhuis,Kortfilm,Programma
END:VEVENT
END:VCALENDAR