BEGIN:VCALENDAR
VERSION:2.0
PRODID:-//Filmhuis Mechelen - ECPv4.3.1.1//NONSGML v1.0//EN
CALSCALE:GREGORIAN
METHOD:PUBLISH
X-WR-CALNAME:Filmhuis Mechelen
X-ORIGINAL-URL:https://www.filmhuismechelen.be
X-WR-CALDESC:Events for Filmhuis Mechelen
BEGIN:VEVENT
DTSTART;TZID=UTC+2:20221004T173000
DTEND;TZID=UTC+2:20221004T233000
DTSTAMP:20260421T085155
CREATED:20220928T232803Z
LAST-MODIFIED:20220928T233126Z
UID:26526-1664904600-1664926200@www.filmhuismechelen.be
SUMMARY:OPEN CINEMA\, dag 2
DESCRIPTION:Op MAANDAG 3 en DINSDAG 4 OKTOBER is het Filmhuis één van de 21 Vlaamse en Brusselse bioscopen en filmvertoners die verrassen met hun gevarieerde aanbod.\n\nAllemaal samen\, allemaal net dat tikkeltje anders.\n\nWelkom op dit magische moment.\nWelkom tijdens OPEN CINEMA.\n\n\n\nWe presenteren u twee avonden lang cinema in al zijn vormen\, genres en formaten\, met maar één rode draad (zijnde: kwaliteit) en telkens voor de prijs van één ticket.\n\nAls u ons nog niet zou kennen\, is dit dus het ideale moment om te komen ontdekken waar het Filmhuis voor staat\, al 45 jaar lang.\n\nEn als u ons wel kent\, dan weet u dat dit weer twee unieke Filmhuisavonden worden\, vol fantastische films\, fijne ontdekkingen\, boeiende omkadering én leuk napraten in de bar.\n\nPROGRAMMA DINSDAG 4 OKTOBER:\nVanaf 17u30:\n- expo 45 JAAR FILMHUIS (doorlopend)\n- rondleidingen in de projectiecabine (17u30-18u15)\n- Filmhuis old school\, met 8mm-\, 16mm- en 35mm-projecties!\n\nDe expo en rondleidingen zijn gratis toegankelijk.\n\n \n\n\n\nOm 18u30: 'PICCOLO CORPO'\nPrachtfilm van Laura Samani over een jonge vrouw die in het Italië van 1900 bij de geboorte haar kindje verliest.\n\nWie een ticket koopt voor 'PICCOLO CORPO'\, mag ook gratis de rest van de avond bijwonen!\n\n \n\n \n\n \n\nOm 20u15: 45 JAAR FILMHUIS: 'DE TOEKOMSTIGE FILMZAAL'\nKorte docu uit 1976 over het ontstaan van het Filmhuis\, met de bouw van een eigen filmzaaltje boven het toenmalige café 't Atelier in de Katelijnestraat.\nZalig tijdsbeeld van de Mechelse jeugd halverwege de jaren '70.\n\n \n\n \n\nOm 20u30: 'MENSCHEN AM SONNTAG' \nDe nog altijd verbluffend frisse\, mooie en sexy klassieker waarin Robert Siodmak\, Billy Wilder en Fred Zinneman vier twentysomethings volgen die samen een zomerse zondag doorbrengen.\n\nZalig tijdsbeeld van de Berlijnse jeugd anno 1930.\n\n \n\nNa afloop van deze vertoning sluiten we OPEN CINEMA af met een gratis drankje voor iedereen!\n\n \n\n \n\nOPEN CINEMA wordt georganiseerd met de steun van het VAF.
URL:https://www.filmhuismechelen.be/vertoning/open-cinema-dag-2/
LOCATION:Minderbroedersgang 5\, Mechelen\, 2800
CATEGORIES:De dinsdagen van het Filmhuis,Documentaire,Klassiekers,Kortfilm,Programma
END:VEVENT
END:VCALENDAR