BEGIN:VCALENDAR
VERSION:2.0
PRODID:-//Filmhuis Mechelen - ECPv4.3.1.1//NONSGML v1.0//EN
CALSCALE:GREGORIAN
METHOD:PUBLISH
X-WR-CALNAME:Filmhuis Mechelen
X-ORIGINAL-URL:https://www.filmhuismechelen.be
X-WR-CALDESC:Events for Filmhuis Mechelen
BEGIN:VEVENT
DTSTART;TZID=UTC+2:20220503T183000
DTEND;TZID=UTC+2:20220503T183000
DTSTAMP:20260421T171431
CREATED:20220402T123131Z
LAST-MODIFIED:20220421T101033Z
UID:25247-1651602600-1651602600@www.filmhuismechelen.be
SUMMARY:SKINNED
DESCRIPTION:Vertoning:\nDINSDAG 3 MEI om 18u30\n\nTICKETS voor deze vertoning HIER!\n\nVertoning in aanwezigheid van de makers\, na afloop biedt het Filmhuis alle aanwezigen een gratis drankje aan.\n\nAlle info & trailer HIER!\n\n
URL:https://www.filmhuismechelen.be/vertoning/skinned/
LOCATION:Minderbroedersgang 5\, Mechelen\, 2800
CATEGORIES:De dinsdagen van het Filmhuis,Kortfilm,Programma
END:VEVENT
END:VCALENDAR