BEGIN:VCALENDAR
VERSION:2.0
PRODID:-//Filmhuis Mechelen - ECPv4.3.1.1//NONSGML v1.0//EN
CALSCALE:GREGORIAN
METHOD:PUBLISH
X-WR-CALNAME:Filmhuis Mechelen
X-ORIGINAL-URL:https://www.filmhuismechelen.be
X-WR-CALDESC:Events for Filmhuis Mechelen
BEGIN:VEVENT
DTSTART;TZID=UTC+2:20220502T190000
DTEND;TZID=UTC+2:20220502T190000
DTSTAMP:20260421T171359
CREATED:20220331T135612Z
LAST-MODIFIED:20220427T225553Z
UID:25176-1651518000-1651518000@www.filmhuismechelen.be
SUMMARY:0 (met nabespreking)
DESCRIPTION:Vertoning:\nMAANDAG 2 MEI om 19u00\n\nTICKETS voor deze vertoning HIER!\n\n\nGevolgd door een Q&A met regisseuse Petronella Van der Hallen en Bart Schoovaerts (Avansa).\n\nNa afloop bieden we alle aanwezigen een gratis drankje aan!\n\nALLE INFO\, TRAILER & RECENSIES HIER!\n\nEen organisatie i.s.m. Avansa - Regio Mechelen en Dialoog\n\n\n\n 
URL:https://www.filmhuismechelen.be/vertoning/0_met_nabespreking/
LOCATION:Minderbroedersgang 5\, Mechelen\, 2800
CATEGORIES:Kortfilm,Programma
END:VEVENT
END:VCALENDAR