BEGIN:VCALENDAR
VERSION:2.0
PRODID:-//Filmhuis Mechelen - ECPv4.3.1.1//NONSGML v1.0//EN
CALSCALE:GREGORIAN
METHOD:PUBLISH
X-WR-CALNAME:Filmhuis Mechelen
X-ORIGINAL-URL:https://www.filmhuismechelen.be
X-WR-CALDESC:Events for Filmhuis Mechelen
BEGIN:VEVENT
DTSTART;TZID=UTC+2:20210817T195000
DTEND;TZID=UTC+2:20210817T195000
DTSTAMP:20260422T093345
CREATED:20210720T093718Z
LAST-MODIFIED:20210812T091759Z
UID:22522-1629229800-1629229800@www.filmhuismechelen.be
SUMMARY:THE HUMAN VOICE
DESCRIPTION:Vertoningen:\nDINSDAG 17 AUGUSTUS om 19u50 - tickets voor deze vertoning HIER!\nDINSDAG 24 AUGUSTUS om 20u10 - tickets voor deze vertoning HIER!\n\nTIP: koop eerst uw SEIZOENKAART en bespaar zo 2 euro per vertoning!\n\nALLE INFO\, TRAILER & RECENSIES HIER!\n\n \n\n
URL:https://www.filmhuismechelen.be/vertoning/the-human-voice/
LOCATION:Minderbroedersgang 5\, Mechelen\, 2800
CATEGORIES:De dinsdagen van het Filmhuis,Kortfilm,Programma
END:VEVENT
END:VCALENDAR