BEGIN:VCALENDAR
VERSION:2.0
PRODID:-//Filmhuis Mechelen - ECPv4.3.1.1//NONSGML v1.0//EN
CALSCALE:GREGORIAN
METHOD:PUBLISH
X-WR-CALNAME:Filmhuis Mechelen
X-ORIGINAL-URL:https://www.filmhuismechelen.be
X-WR-CALDESC:Events for Filmhuis Mechelen
BEGIN:VEVENT
DTSTART;TZID=UTC+2:20200119T110000
DTEND;TZID=UTC+2:20200119T110000
DTSTAMP:20260423T203546
CREATED:20190811T161459Z
LAST-MODIFIED:20200116T191716Z
UID:12259-1579431600-1579431600@www.filmhuismechelen.be
SUMMARY:Kinderfilmontbijt: IN VUUR EN VLAM: kortfilmspecial (4+)
DESCRIPTION:ZONDAG 19 JANUARI 2020\n\nOntbijt: vanaf 10u00.\nFilm: om 11u00.\n\nOPGELET: de formule met ontbijt is ondertussen uitverkocht.\nVoor de formule zonder ontbijt (alleen de film dus) kunt u nog tickets kopen aan de dagkassa of online op DEZE LINK!\n\nRichtleeftijd: 4 +\n\nEen vertoning in samenwerking met REKKER en\nCultuurcentrum Mechelen.\n\nHet heerlijke ontbijt wordt als vanouds verzorgd door\nOxfam Wereldwinkel Mechelen.
URL:https://www.filmhuismechelen.be/vertoning/kinderfilmontbijt-in-vuur-en-vlam-kortfilmspecial-4/
CATEGORIES:Kinderfilms,Kortfilm,Programma
END:VEVENT
END:VCALENDAR