BEGIN:VCALENDAR
VERSION:2.0
PRODID:-//Filmhuis Mechelen - ECPv4.3.1.1//NONSGML v1.0//EN
CALSCALE:GREGORIAN
METHOD:PUBLISH
X-WR-CALNAME:Filmhuis Mechelen
X-ORIGINAL-URL:https://www.filmhuismechelen.be
X-WR-CALDESC:Events for Filmhuis Mechelen
BEGIN:VEVENT
DTSTART;TZID=UTC+2:20260414T183000
DTEND;TZID=UTC+2:20260414T183000
DTSTAMP:20260423T185528
CREATED:20260302T195446Z
LAST-MODIFIED:20260413T164655Z
UID:37233-1776191400-1776191400@www.filmhuismechelen.be
SUMMARY:GHOST ELEPHANTS
DESCRIPTION:Vertoningen:\n- DINSDAG 14 APRIL om 18u30 - tickets HIER!\n- MAANDAG 20 APRIL om 19u00 - tickets HIER!\n\nTIP: koop eerst HIER een Filmhuis-seizoenskaart\, en bespaar zo een heel seizoen lang 2 euro per vertoning!\n\nALLE INFO & TRAILER HIER!\n\n\n\nDe pers over ‘GHOST ELEPHANTS':\n\n‘Ghost Elephants’ brengt alles wat we van een Herzog-docu gewend zijn: zowel de kinderlijke nieuwsgierigheid als de originele filosofische connecties’ (★★★★) - Cinemagazine\n\n‘A marvellously warm and engaging study’ (★★★★) - The Guardian\n\n‘An engaging\, thoughtful and deeply moving documentary'(★★★★) - Next Best Picture\n\n‘A poetic exploration of human obsession and mysterious nature’ - The Hollywood Reporter \n\n‘An affectionate and affection-inducing pursuit of real animals and unreachable dreams’ - Indiewire\n
URL:https://www.filmhuismechelen.be/vertoning/ghost-elephants-2/
LOCATION:Oude Brusselsestraat 10\, Mechelen\, 2800\, België
CATEGORIES:De dinsdagen van het Filmhuis,Programma
END:VEVENT
BEGIN:VEVENT
DTSTART;TZID=UTC+2:20260414T201500
DTEND;TZID=UTC+2:20260414T201500
DTSTAMP:20260423T185528
CREATED:20260302T193658Z
LAST-MODIFIED:20260406T184314Z
UID:37229-1776197700-1776197700@www.filmhuismechelen.be
SUMMARY:MARTY SUPREME
DESCRIPTION:Vertoning:\n- DINSDAG 14 APRIL om 20u15 - tickets HIER!\n\nTIP: koop eerst HIER een Filmhuis-seizoenskaart\, en bespaar zo een heel seizoen lang 2 euro per vertoning!\n\nALLE INFO & TRAILER HIER!\n\n\n\n\n\n\n\nDe pers over 'MARTY SUPREME':\n\n\n'Jubelende reviews\, hoge publieksscores\, negen Oscarnominaties en Timothée Chalamet die viraal ging met een hilarische marketingcampagne: rond ‘Marty Supreme’ hangt al maandenlang een knetterende buzz. En we hebben nieuws voor u: hij is nog grappiger\, gedurfder\, virtuozer en goddamn entertainender dan we op basis van de hype hadden durven te dromen. Chalamets blote kont krijgt u er gratis bij.' (★★★★★) - Humo\n'Het zwierige ‘Marty Supreme’ is de grote Timothée Chalamet-show.' (★★★★) - De Morgen\n'Timothée Chalamet is a smash in this spectacular screwball ping-pong nightmare.' (★★★★★) - The Guardian\n''Is Timothée Chalamet dan toch een van de groten? ‘Marty Supreme’ is een dolle rit die grandioos de zelfvoldane lefgozer viert.'' (★★★★) - De Standaard\n'Josh Safdies 'Marty Supreme' is een driftige pingpongparabel over winnen tegen elke prijs\, met Timothée Chalamet als speler\, scheidsrechter én bal tegelijk.' (★★★★) - Knack Focus\n'Fresh\, funny and exhilarating. Marty Supreme has such scope\, ambition and humour that its flaws are easy to overlook.' (★★★★) - BBC\n\n\n\n\n\n\n\n
URL:https://www.filmhuismechelen.be/vertoning/marty-supreme-2/
LOCATION:Oude Brusselsestraat 10\, Mechelen\, 2800\, België
CATEGORIES:De dinsdagen van het Filmhuis,Programma
END:VEVENT
END:VCALENDAR