BEGIN:VCALENDAR
VERSION:2.0
PRODID:-//Filmhuis Mechelen - ECPv4.3.1.1//NONSGML v1.0//EN
CALSCALE:GREGORIAN
METHOD:PUBLISH
X-WR-CALNAME:Filmhuis Mechelen
X-ORIGINAL-URL:https://www.filmhuismechelen.be
X-WR-CALDESC:Events for Filmhuis Mechelen
BEGIN:VEVENT
DTSTART;TZID=UTC+2:20260407T183000
DTEND;TZID=UTC+2:20260407T183000
DTSTAMP:20260421T192645
CREATED:20260302T190425Z
LAST-MODIFIED:20260406T163759Z
UID:37217-1775586600-1775586600@www.filmhuismechelen.be
SUMMARY:SKIFF
DESCRIPTION:Vertoningen:\n- DINSDAG 7 APRIL om 18u30 - tickets HIER!\n- MAANDAG 20 APRIL om 20u45 - tickets HIER!\n\nTIP: koop eerst HIER een Filmhuis-seizoenskaart\, en bespaar zo een heel seizoen lang 2 euro per vertoning!\n\nALLE INFO & TRAILER HIER!\n\n\n\nDe pers over ‘SKIFF':\n”Skiff’ is oprecht en ongedwongen\, laat zich niet in met hokjes en labels. Het leven is soms gewoon rommelig\, complex en verwarrend. Je voelt wat je voelt\, en die ontregelende verliefdheid van de 15-jarige Malou laat je niet onberoerd.’ - De Standaard\n‘De nieuwe film van Cecilia Verheyden verweeft moeiteloos vraagstukken rond gender\, seksualiteit en complexe familierelaties\, maar het is Femke Vanhove die de boel bij elkaar houdt met een authentieke vertolking.’ – De Morgen\n‘Een klein maar fijn coming-of-age-verhaal’ – Het Nieuwsblad\n\n‘A tender and resonant coming-of-age tale’ – Cineuropa\n
URL:https://www.filmhuismechelen.be/vertoning/skiff-2/
LOCATION:Oude Brusselsestraat 10\, Mechelen\, 2800\, België
CATEGORIES:De dinsdagen van het Filmhuis,Programma
END:VEVENT
BEGIN:VEVENT
DTSTART;TZID=UTC+2:20260407T203000
DTEND;TZID=UTC+2:20260407T203000
DTSTAMP:20260421T192645
CREATED:20260222T193438Z
LAST-MODIFIED:20260330T190812Z
UID:37132-1775593800-1775593800@www.filmhuismechelen.be
SUMMARY:LA GRAZIA
DESCRIPTION:Vertoning:\n- DINSDAG 7 APRIL om 20u30 - tickets HIER!\n\nTIP: koop eerst HIER een Filmhuis-seizoenskaart\, en bespaar zo een heel seizoen lang 2 euro per vertoning!\n\nALLE INFO\, TRAILER & RECENSIES HIER!\n\n\nDe pers over 'LA GRAZIA':\n\n''Met ‘La Grazia’ levert Paolo Sorrentino eindelijk nog eens een grand cru af.'' (★★★★) - De Standaard\n''La Grazia' is wellicht Sorrentino's minst sexy film\, maar ook zijn meest mature. Een melancholische machtsparabel over een president die durft te twijfelen\, ook en vooral aan zichzelf.'' (★★★★) - Knack Focus\n\n''La Grazia' is amusant en ontroerend\, met gevatte dialogen\, soms heerlijk sarcastische sneren en enkele figuren zo kleurrijk dat ze haast een eigen film verdienen. Tegelijk weet Sorrentino feilloos de balans te bewaken.' - De Standaard\n'Een elegant gefotografeerd en melancholisch stemmend portret van een fictieve Italiaanse president\, gespeeld door de magnifieke Toni Servillo.' - Humo\n \n\n\n
URL:https://www.filmhuismechelen.be/vertoning/la-grazia-3/
LOCATION:Oude Brusselsestraat 10\, Mechelen\, 2800\, België
CATEGORIES:De dinsdagen van het Filmhuis,Programma
END:VEVENT
END:VCALENDAR